BEGIN:VCALENDAR
VERSION:2.0
PRODID:-//ChamberMaster//Event Calendar 2.0//EN
METHOD:PUBLISH
X-PUBLISHED-TTL:P3D
REFRESH-INTERVAL:P3D
CALSCALE:GREGORIAN
BEGIN:VEVENT
DTSTART:20230419T210000Z
DTEND:20230419T230000Z
X-MICROSOFT-CDO-ALLDAYEVENT:FALSE
SUMMARY:YEA Investor Panel
DESCRIPTION:Join us for a welcome reception and presentation/business pitch by the Young Entrepreneurs to a panel of local investors in order to obtain funding for their new business ventures. All welcome to attend! \n\n\n\nLocal middle school students in the Chamber's Young Entrepreneurs Academy (YEA!) will present their business plans before a panel of local business leaders at the Investor Panel Event at Harper College.\n\n\n\nEach student business will have five minutes to pitch their business plans to the panel of investors. The panel will then ask each student questions and based on the appeal and merit of the students' plans and presentations\, representatives from investor companies will determine the amount of funds to allocate to each business or social movement.\n\n\n\nThe participating investors will also select the one business group that will advance to the Young Entrepreneurs Academy Saunders Scholars National College Scholarship competition\, where they will compete for hundreds of thousands of dollars in college scholarships and the opportunity to present their business plan at the America's Small Business Summit in Washington\, DC.
X-ALT-DESC;FMTTYPE=text/html:<br />\nJoin us for a welcome reception and presentation/business pitch by the Young Entrepreneurs to a panel of local investors in order to obtain funding for their new business ventures. All welcome to attend!&nbsp\;<br />\n<br />\nLocal middle school students in the Chamber&#39\;s Young Entrepreneurs Academy (YEA!) will present their business plans before a panel of local business leaders at the Investor Panel Event at Harper College.<br />\n<br />\nEach student business will have five minutes to pitch their business plans to the panel of investors. The panel will then ask each student questions and based on the appeal and merit of the students&rsquo\; plans and presentations\, representatives from investor companies will determine the amount of funds to allocate to each business or social movement.<br />\n<br />\nThe participating investors will also select the one business group that will advance to the Young Entrepreneurs Academy Saunders Scholars National College Scholarship competition\, where they will compete for hundreds of thousands of dollars in college scholarships and the opportunity to present their business plan at the America&rsquo\;s Small Business Summit in Washington\, DC.
LOCATION:Harper College - J Theater 1200 W Algonquin Rd\, Building R
UID:e.19.4455
SEQUENCE:3
DTSTAMP:20260421T223508Z
URL:https://business.rmchamber.org/events/details/yea-investor-panel-4455
END:VEVENT

END:VCALENDAR
