BEGIN:VCALENDAR
VERSION:2.0
PRODID:-//ChamberMaster//Event Calendar 2.0//EN
METHOD:PUBLISH
X-PUBLISHED-TTL:P3D
REFRESH-INTERVAL:P3D
CALSCALE:GREGORIAN
BEGIN:VEVENT
DTSTART:20180125T143000Z
DTEND:20180125T163000Z
X-MICROSOFT-CDO-ALLDAYEVENT:FALSE
SUMMARY:Tap into Hidden Candidate Markets to Power Up Your Business
DESCRIPTION:Tap into Hidden Candidate Markets to Power Up Your Business\n\nYou're Invited!\n\n2018 Inclusionary Hiring Practices Breakfast\n\n\n	Do you have vacant positions in your company that need to be filled by qualified workers?\n	Did you know 1 out of 5 people in the U.S. have a disability?\n	Of those people\, 72% want to work and only 29% are working?\n\n\nThursday\, January 25th\, 2018\n\n8am   10:30am\n\n2018 Inclusionary Hiring Practices Breakfast (complimentary)\n\nHyatt Regency\, Schaumburg\n\nAt this event:\n\n\n	Gain greater access to a large pool of hidden candidates who are ready to work!\n	Recognize the benefits of having a diversified workforce\n	Learn how your business can engage employees and gain a competitive edge\n	Discover how to improve workforce productivity and job satisfaction\n\n\nHear from the creators of the HOPE Handbook* who have developed a model of inclusive that has resulted in 5 full-time job placements for individuals with varying disabilities in the last year. This model is being adopted by large scale companies within Illinois and has proven successful in delivery qualified workers and?\n\n \n\nTo Register** OR for questions\n\nL. M. Pepper Curington\, Disability Service Manager\n\nBusiness and Career Services\, Inc.\n\n847.437.9995 OR pcurington@bcsillinois.org\n\n \n\nEmbracing Disability to Power Up Your Business\n\n*HIRING OPPORTUNITY PREPARATION EXECUTION\n\n**This breakfast event is limited to EMPLOYERS and AGENCIES only.
X-ALT-DESC;FMTTYPE=text/html:<h2 style="padding: 0px\; color: rgb(40\, 44\, 53)\; font-size: 20px\; line-height: 30px\; font-weight: 600\; font-family: &quot\;Benton Sans&quot\;\, -apple-system\, BlinkMacSystemFont\, Roboto\, &quot\;Helvetica Neue&quot\;\, Helvetica\, Tahoma\, Arial\, sans-serif\; letter-spacing: 0.5px\; text-align: center\;"><span style="padding-top:0px\;">Tap into Hidden Candidate Markets to Power Up Your Business</span></h2>\n\n<h3 style="padding: 10px 0px 0px\; color: rgb(40\, 44\, 53)\; font-size: 20px\; line-height: 30px\; font-family: &quot\;Benton Sans&quot\;\, -apple-system\, BlinkMacSystemFont\, Roboto\, &quot\;Helvetica Neue&quot\;\, Helvetica\, Tahoma\, Arial\, sans-serif\; letter-spacing: 0.5px\; text-align: center\;"><span style="font-weight:700\;padding-top:0px\;">You&rsquo\;re Invited!</span></h3>\n\n<h3 style="padding: 10px 0px 0px\; color: rgb(40\, 44\, 53)\; font-size: 20px\; line-height: 30px\; font-family: &quot\;Benton Sans&quot\;\, -apple-system\, BlinkMacSystemFont\, Roboto\, &quot\;Helvetica Neue&quot\;\, Helvetica\, Tahoma\, Arial\, sans-serif\; letter-spacing: 0.5px\; text-align: center\;"><span style="font-weight:700\;padding-top:0px\;">2018 Inclusionary Hiring Practices Breakfast</span></h3>\n\n<ul>\n	<li style="padding: 0px\; text-align: center\;">Do you have vacant positions in your company that need to be filled by qualified workers?</li>\n	<li style="padding: 5px 0px 0px\; text-align: center\;">Did you know 1 out of 5 people in the U.S. have a disability?</li>\n	<li style="padding: 5px 0px 0px\; text-align: center\;">Of those people\, 72% want to work and only 29% are working?</li>\n</ul>\n\n<h2 style="padding: 10px 0px 0px\; color: rgb(40\, 44\, 53)\; font-size: 20px\; line-height: 30px\; font-weight: 600\; font-family: &quot\;Benton Sans&quot\;\, -apple-system\, BlinkMacSystemFont\, Roboto\, &quot\;Helvetica Neue&quot\;\, Helvetica\, Tahoma\, Arial\, sans-serif\; letter-spacing: 0.5px\; text-align: center\;"><span style="padding-top:0px\;">Thursday\, January 25th\, 2018</span></h2>\n\n<h2 style="padding: 10px 0px 0px\; color: rgb(40\, 44\, 53)\; font-size: 20px\; line-height: 30px\; font-weight: 600\; font-family: &quot\;Benton Sans&quot\;\, -apple-system\, BlinkMacSystemFont\, Roboto\, &quot\;Helvetica Neue&quot\;\, Helvetica\, Tahoma\, Arial\, sans-serif\; letter-spacing: 0.5px\; text-align: center\;"><span style="padding-top:0px\;">8am &ndash\; 10:30am</span></h2>\n\n<h3 style="padding: 10px 0px 0px\; color: rgb(40\, 44\, 53)\; font-size: 20px\; line-height: 30px\; font-family: &quot\;Benton Sans&quot\;\, -apple-system\, BlinkMacSystemFont\, Roboto\, &quot\;Helvetica Neue&quot\;\, Helvetica\, Tahoma\, Arial\, sans-serif\; letter-spacing: 0.5px\; text-align: center\;"><span style="font-weight:700\;padding-top:0px\;">2018 Inclusionary Hiring Practices Breakfast (complimentary)</span></h3>\n\n<h3 style="padding: 10px 0px 0px\; color: rgb(40\, 44\, 53)\; font-size: 20px\; line-height: 30px\; font-family: &quot\;Benton Sans&quot\;\, -apple-system\, BlinkMacSystemFont\, Roboto\, &quot\;Helvetica Neue&quot\;\, Helvetica\, Tahoma\, Arial\, sans-serif\; letter-spacing: 0.5px\; text-align: center\;"><span style="font-weight:700\;padding-top:0px\;">Hyatt Regency\, Schaumburg</span></h3>\n\n<div style="text-align: center\;"><span style="padding-top:0px\;">At this event:</span></div>\n\n<ul>\n	<li style="padding: 0px\; text-align: center\;">Gain greater access to a large pool of hidden candidates who are ready to work!</li>\n	<li style="padding: 5px 0px 0px\; text-align: center\;">Recognize the benefits of having a diversified workforce</li>\n	<li style="padding: 5px 0px 0px\; text-align: center\;">Learn how your business can engage employees and gain a competitive edge</li>\n	<li style="padding: 5px 0px 0px\; text-align: center\;">Discover how to improve workforce productivity and job satisfaction</li>\n</ul>\n\n<div style="text-align: center\;"><span style="padding-top:0px\;">Hear from the creators of the HOPE Handbook* who have developed a model of inclusive that has resulted in 5 full-time job placements for individuals with varying disabilities in the last year. This model is being adopted by large scale companies within Illinois and has proven successful in delivery qualified workers and?</span><br />\n&nbsp\;</div>\n\n<h3 style="padding: 10px 0px 0px\; color: rgb(40\, 44\, 53)\; font-size: 20px\; line-height: 30px\; font-family: &quot\;Benton Sans&quot\;\, -apple-system\, BlinkMacSystemFont\, Roboto\, &quot\;Helvetica Neue&quot\;\, Helvetica\, Tahoma\, Arial\, sans-serif\; letter-spacing: 0.5px\; text-align: center\;"><span style="padding-top:0px\;">To Register** OR for questions</span></h3>\n\n<h3 style="padding: 10px 0px 0px\; color: rgb(40\, 44\, 53)\; font-size: 20px\; line-height: 30px\; font-family: &quot\;Benton Sans&quot\;\, -apple-system\, BlinkMacSystemFont\, Roboto\, &quot\;Helvetica Neue&quot\;\, Helvetica\, Tahoma\, Arial\, sans-serif\; letter-spacing: 0.5px\; text-align: center\;"><span style="padding-top:0px\;">L. M. Pepper Curington\, Disability Service Manager</span></h3>\n\n<h3 style="padding: 10px 0px 0px\; color: rgb(40\, 44\, 53)\; font-size: 20px\; line-height: 30px\; font-family: &quot\;Benton Sans&quot\;\, -apple-system\, BlinkMacSystemFont\, Roboto\, &quot\;Helvetica Neue&quot\;\, Helvetica\, Tahoma\, Arial\, sans-serif\; letter-spacing: 0.5px\; text-align: center\;"><span style="padding-top:0px\;">Business and Career Services\, Inc.</span></h3>\n\n<h3 style="padding: 10px 0px 0px\; color: rgb(40\, 44\, 53)\; font-size: 20px\; line-height: 30px\; font-family: &quot\;Benton Sans&quot\;\, -apple-system\, BlinkMacSystemFont\, Roboto\, &quot\;Helvetica Neue&quot\;\, Helvetica\, Tahoma\, Arial\, sans-serif\; letter-spacing: 0.5px\; text-align: center\;"><span style="padding-top:0px\;">847.437.9995 OR&nbsp\;<a href="mailto:pcurington@bcsillinois.org" rel="noopener noreferrer nofollow" style="color:rgb(0\, 127\, 140)\;text-decoration-line:none\;padding-top:0px\;" target="_blank"><span style="padding-top:0px\;">pcurington@bcsillinois.org</span></a></span></h3>\n\n<div style="text-align: center\;">&nbsp\;</div>\n\n<h3 style="padding: 10px 0px 0px\; color: rgb(40\, 44\, 53)\; font-size: 20px\; line-height: 30px\; font-family: &quot\;Benton Sans&quot\;\, -apple-system\, BlinkMacSystemFont\, Roboto\, &quot\;Helvetica Neue&quot\;\, Helvetica\, Tahoma\, Arial\, sans-serif\; letter-spacing: 0.5px\; text-align: center\;"><span style="font-weight:700\;padding-top:0px\;">Embracing Disability to Power Up Your Business</span></h3>\n\n<h6 style="padding: 10px 0px 0px\; color: rgb(40\, 44\, 53)\; font-size: 12px\; line-height: 18px\; font-weight: 600\; text-transform: uppercase\; font-family: &quot\;Benton Sans&quot\;\, -apple-system\, BlinkMacSystemFont\, Roboto\, &quot\;Helvetica Neue&quot\;\, Helvetica\, Tahoma\, Arial\, sans-serif\; letter-spacing: 0.5px\; text-align: center\;"><span style="padding-top:0px\;">*</span>HIRING OPPORTUNITY PREPARATION EXECUTION</h6>\n\n<div style="text-align: center\;"><span style="padding-top:0px\;"><em style="padding-top:0px\;">**This breakfast event is limited to EMPLOYERS and AGENCIES only.</em></span></div>\n
LOCATION:Hyatt Regency Schaumburg\, Chicago 1800 East Golf Road Schaumburg\, IL 60173
UID:e.19.3139
SEQUENCE:3
DTSTAMP:20260425T201648Z
URL:https://business.rmchamber.org/events/details/tap-into-hidden-candidate-markets-to-power-up-your-business-3139
END:VEVENT

END:VCALENDAR
