BEGIN:VCALENDAR
VERSION:2.0
PRODID:-//ChamberMaster//Event Calendar 2.0//EN
METHOD:PUBLISH
X-PUBLISHED-TTL:P3D
REFRESH-INTERVAL:P3D
CALSCALE:GREGORIAN
BEGIN:VEVENT
DTSTART:20190209T160000Z
DTEND:20190210T020000Z
X-MICROSOFT-CDO-ALLDAYEVENT:FALSE
SUMMARY:Sprint Says Thanks!
DESCRIPTION:Sprint Says Thanks is an event that Sprint in Rolling Meadows holds to give back to our existing and new customers fantastic deals including waived activation fees for new lines of service and many more. We also help out with business and not just personal accounts.
X-ALT-DESC;FMTTYPE=text/html:Sprint Says Thanks is an event that Sprint in Rolling Meadows holds to give back to our existing and new customers fantastic deals including waived activation fees for new lines of service and many more. We also help out with business and not just personal accounts.
LOCATION:1100 W. Golf Road Rolling Meadows\, IL. 60008
UID:e.19.4239
SEQUENCE:3
DTSTAMP:20260425T020258Z
URL:https://business.rmchamber.org/events/details/sprint-says-thanks-4239
END:VEVENT

END:VCALENDAR
