BEGIN:VCALENDAR
VERSION:2.0
PRODID:-//ChamberMaster//Event Calendar 2.0//EN
METHOD:PUBLISH
X-PUBLISHED-TTL:P3D
REFRESH-INTERVAL:P3D
CALSCALE:GREGORIAN
BEGIN:VEVENT
DTSTART;VALUE=DATE:20230308
DTEND;VALUE=DATE:20230309
TRANSP:TRANSPARENT
X-MICROSOFT-CDO-ALLDAYEVENT:TRUE
SUMMARY:SLSF/NWSRA Flower Power Fundraiser
DESCRIPTION:PURCHASE YOUR FLOWER NEEDS FROM MARCH 1st   APRIL 1st \n\nGet a jump start on those outside plans and fill your yard with beauty for a good cause. All purchases support children and adults with disabilities. Don't need flowers? Check all the vegetable garden options!\n\n\n\nSLSFNWSRA.fpfundraising.com\n\n\n\nDon't have a green thumb or space for an outdoor garden?\n\nNot a problem! You can still support the fundraiser and purchase bulbs to be planted at the Community Sensory Garden! The bulbs will be planted this spring and you can visit the garden during the summer months to enjoy your donation. Check out the wish list below!\n\n\n\nWISH LIST\n\nS13 Sunflower Collection\n\nS15 Healthy Herb Garden\n\nS25 3 Mixed Hosta\n\nS29 Blue Hardy Geraniums\n\nS34 3 Mixed Coneflowers\n\nS46 1 Becky Shasta Daisy\n\nS50 1 Millenium Allium\n\n\n\nWhen checking out\, please have the bulbs delivered directly to the Sensory Garden:\n\nRebecca Lizalde\n\nNWSRA\n\n1919 Walnut Avenue\n\nHanover Park\, IL 60133
X-ALT-DESC;FMTTYPE=text/html:PURCHASE YOUR FLOWER NEEDS FROM MARCH 1st &mdash\; APRIL 1st&nbsp\;<br />\nGet a jump start on those outside plans and fill your yard with beauty for a good cause. All purchases support children and adults with disabilities. Don&#39\;t need flowers? Check all the vegetable garden options!<br />\n<br />\n<span style="color:rgb(0\, 0\, 205)">SLSFNWSRA.fpfundraising.com</span><br />\n<br />\nDon&rsquo\;t have a green thumb or space for an outdoor garden?<br />\nNot a problem! You can still support the fundraiser and purchase bulbs to be planted&nbsp\;at the Community Sensory Garden! The bulbs will be planted this spring and you&nbsp\;can visit the garden during the summer months to enjoy your donation. Check out&nbsp\;the wish list below!<br />\n<br />\n<strong>WISH LIST</strong><br />\nS13 Sunflower Collection<br />\nS15 Healthy Herb Garden<br />\nS25 3 Mixed Hosta<br />\nS29 Blue Hardy Geraniums<br />\nS34 3 Mixed Coneflowers<br />\nS46 1 Becky Shasta Daisy<br />\nS50 1 Millenium Allium<br />\n<br />\nWhen checking out\, please have the bulbs delivered directly to the Sensory Garden:<br />\nRebecca Lizalde<br />\nNWSRA<br />\n1919 Walnut Avenue<br />\nHanover Park\, IL 60133
LOCATION:Online SLSFNWSRA.fpfundraising.com
UID:e.19.4310
SEQUENCE:3
DTSTAMP:20260422T001825Z
URL:https://business.rmchamber.org/events/details/slsf-nwsra-flower-power-fundraiser-03-08-2023-4310
END:VEVENT

END:VCALENDAR
