BEGIN:VCALENDAR
VERSION:2.0
PRODID:-//ChamberMaster//Event Calendar 2.0//EN
METHOD:PUBLISH
X-PUBLISHED-TTL:P3D
REFRESH-INTERVAL:P3D
CALSCALE:GREGORIAN
BEGIN:VEVENT
DTSTART;VALUE=DATE:20231201
DTEND;VALUE=DATE:20231206
TRANSP:TRANSPARENT
X-MICROSOFT-CDO-ALLDAYEVENT:TRUE
SUMMARY:SLSF Double Good Popcorn Fundraiser
DESCRIPTION:DOUBLE GOOD POPCORN FUNDRAISER\n\n\n\nPurchase popcorn to support individuals with disabilities. \n\n\n\nONLY OPEN FOR 5 DAYS!\n\n\n\nPopcorn makes a great gift!
X-ALT-DESC;FMTTYPE=text/html:DOUBLE GOOD POPCORN FUNDRAISER<br />\n<br />\nPurchase popcorn&nbsp\;to support individuals with disabilities.&nbsp\;<br />\n<br />\nONLY OPEN&nbsp\;FOR 5 DAYS!<br />\n<br />\nPopcorn&nbsp\;makes&nbsp\;a great&nbsp\;gift!
LOCATION:SLSF Double Good Popcorn Fundraiser
UID:e.19.4475
SEQUENCE:3
DTSTAMP:20260421T111847Z
URL:https://business.rmchamber.org/events/details/slsf-double-good-popcorn-fundraiser-4475
END:VEVENT

END:VCALENDAR
