BEGIN:VCALENDAR
VERSION:2.0
PRODID:-//ChamberMaster//Event Calendar 2.0//EN
METHOD:PUBLISH
X-PUBLISHED-TTL:P3D
REFRESH-INTERVAL:P3D
CALSCALE:GREGORIAN
BEGIN:VEVENT
DTSTART:20221019T170000Z
DTEND:20221019T180000Z
X-MICROSOFT-CDO-ALLDAYEVENT:FALSE
SUMMARY:Ribbon Cutting - Advance Health & Wellness
DESCRIPTION:Join the Rolling Meadows Chamber of Commerce along with \n\nThe City of Rolling Meadows in welcoming this local business to our community! \n\n\n\nOpen House: 12:00pm\n\nRibbon Cutting: 12:30pm
X-ALT-DESC;FMTTYPE=text/html:Join the Rolling Meadows Chamber of Commerce along with&nbsp\;<br />\nThe City of Rolling Meadows&nbsp\;in welcoming this local business to our community!&nbsp\;<br />\n<br />\nOpen House: 12:00pm<br />\nRibbon Cutting: 12:30pm
LOCATION:1941 Rohlwing Road Suite C Rolling Meadows
UID:e.19.4297
SEQUENCE:3
DTSTAMP:20260422T074040Z
URL:https://business.rmchamber.org/events/details/ribbon-cutting-advance-health-wellness-4297
END:VEVENT

END:VCALENDAR
