BEGIN:VCALENDAR
VERSION:2.0
PRODID:-//ChamberMaster//Event Calendar 2.0//EN
METHOD:PUBLISH
X-PUBLISHED-TTL:P3D
REFRESH-INTERVAL:P3D
CALSCALE:GREGORIAN
BEGIN:VEVENT
DTSTART:20220210T180000Z
DTEND:20220210T190000Z
X-MICROSOFT-CDO-ALLDAYEVENT:FALSE
SUMMARY:RAMP Up Multi-Chamber Virtual Networking
DESCRIPTION:RAMP Up Multi-Chamber Networking with \n\nRolling Meadows Arlington Heights Mount Prospect Palatine Area Chambers\n\n\n\n12:00- Featured Speaker: Allyson Jannotta\, An Aha Life Coach\n\nTips that lead to success: Business\, Marriage\, Client\, Appreciation and... FUNNEL CAKES?\n\n\n\n12:15- Networking with area Chamber members in breakout rooms
X-ALT-DESC;FMTTYPE=text/html:<span style="caret-color: rgb(51\, 51\, 51)\; text-size-adjust: auto\;">RAMP Up Multi-Chamber Networking with&nbsp\;</span><br style="caret-color: rgb(51\, 51\, 51)\; text-size-adjust: auto\;" />\n<span style="caret-color: rgb(51\, 51\, 51)\; text-size-adjust: auto\;">Rolling Meadows Arlington Heights Mount Prospect Palatine Area Chambers</span><br style="caret-color: rgb(51\, 51\, 51)\; text-size-adjust: auto\;" />\n<br style="caret-color: rgb(51\, 51\, 51)\; text-size-adjust: auto\;" />\n<span style="caret-color: rgb(51\, 51\, 51)\; text-size-adjust: auto\;">12:00- Featured Speaker: Allyson Jannotta\, An Aha Life Coach</span><br style="caret-color: rgb(51\, 51\, 51)\; text-size-adjust: auto\;" />\n<span style="caret-color: rgb(51\, 51\, 51)\; text-size-adjust: auto\;">Tips that lead to success: Business\, Marriage\, Client\, Appreciation and... FUNNEL CAKES?</span><br style="caret-color: rgb(51\, 51\, 51)\; text-size-adjust: auto\;" />\n<br style="caret-color: rgb(51\, 51\, 51)\; text-size-adjust: auto\;" />\n<span style="caret-color: rgb(51\, 51\, 51)\; text-size-adjust: auto\;">12:15- Networking with area Chamber members in breakout rooms</span>
LOCATION:Virtual-zoom
UID:e.19.4284
SEQUENCE:3
DTSTAMP:20260422T191821Z
URL:https://business.rmchamber.org/events/details/ramp-up-multi-chamber-virtual-networking-4284
END:VEVENT

END:VCALENDAR
