BEGIN:VCALENDAR
VERSION:2.0
PRODID:-//ChamberMaster//Event Calendar 2.0//EN
METHOD:PUBLISH
X-PUBLISHED-TTL:P3D
REFRESH-INTERVAL:P3D
CALSCALE:GREGORIAN
BEGIN:VEVENT
DTSTART:20220421T170000Z
DTEND:20220421T180000Z
X-MICROSOFT-CDO-ALLDAYEVENT:FALSE
SUMMARY:RAMP Up Multi-Chamber Networking
DESCRIPTION:RAMP Up Multi-Chamber Networking with \n\nRolling Meadows Arlington Heights Mount Prospect Palatine Area Chambers\n\n\n\n12:00- Featured Speaker: High School District 214\n\n-Bill Dussling\, Board President\n\n-Megan Kelly\, Director of Academic Programs and Pathways\n\n-Patrick Mogge\, Director of Community Engagement & Outreach \n\nLearn how District 214 is helping to develop tomorrow's workforce & provide opportunities for local employers to engage with today's students\n\n\n\n12:15- Networking with area Chamber members in breakout rooms
X-ALT-DESC;FMTTYPE=text/html:RAMP Up Multi-Chamber Networking with&nbsp\;<br />\nRolling Meadows Arlington Heights Mount Prospect Palatine Area Chambers<br />\n<br />\n12:00- Featured Speaker: High School District 214<br />\n-Bill Dussling\, Board President<br />\n-Megan Kelly\, Director of Academic Programs and Pathways<br />\n-Patrick Mogge\, Director of Community Engagement &amp\; Outreach&nbsp\;<br />\nLearn how District 214 is helping to develop tomorrow&#39\;s workforce &amp\; provide opportunities for local employers to engage with today&#39\;s students<br />\n<br />\n12:15- Networking with area Chamber members in breakout rooms
LOCATION:Virtual Zoom
UID:e.19.4289
SEQUENCE:3
DTSTAMP:20260422T161737Z
URL:https://business.rmchamber.org/events/details/ramp-up-multi-chamber-networking-4289
END:VEVENT

END:VCALENDAR
