BEGIN:VCALENDAR
VERSION:2.0
PRODID:-//ChamberMaster//Event Calendar 2.0//EN
METHOD:PUBLISH
X-PUBLISHED-TTL:P3D
REFRESH-INTERVAL:P3D
CALSCALE:GREGORIAN
BEGIN:VEVENT
DTSTART:20190424T150000Z
DTEND:20190424T220000Z
X-MICROSOFT-CDO-ALLDAYEVENT:FALSE
SUMMARY:Open House at Northwest Suburban College
DESCRIPTION:Northwest Suburban College is hosting an Open House on Wednesday\, April 24\, from 10:00 a.m. until 5:00 p.m.\n\nPlease stop by to learn about our Medical Assistant\, Dental Assistant\, and Pharmacy Technician programs. Our programs are accelerated and provide hands on experience with externships at medical and dental offices\, hospitals\, and commercial pharmacies. We offer generous institutional aid packages to students who qualify.\n\n\n\nVisit our Open House to tour the campus\, visit classrooms\, meet faculty and staff\, and enjoy refreshments. We look forward to seeing you on April 24th!
X-ALT-DESC;FMTTYPE=text/html:Northwest Suburban College is hosting an Open House on Wednesday\, April 24\, from 10:00 a.m. until 5:00 p.m.<br />\nPlease stop by to learn about our Medical Assistant\, Dental Assistant\, and Pharmacy Technician programs. Our programs are accelerated and provide hands on experience with externships at medical and dental offices\, hospitals\, and commercial pharmacies. We offer generous institutional aid packages to students who qualify.<br />\n<br />\nVisit our Open House&nbsp\;to tour the campus\, visit classrooms\, meet faculty and staff\, and enjoy refreshments. We look forward to seeing you on April 24th!
LOCATION:5999 S. New Wilke Road Rolling Meadows\, IL 60008 847-290-6425
UID:e.19.4246
SEQUENCE:3
DTSTAMP:20260424T231606Z
URL:https://business.rmchamber.org/events/details/open-house-at-northwest-suburban-college-4246
END:VEVENT

END:VCALENDAR
