BEGIN:VCALENDAR
VERSION:2.0
PRODID:-//ChamberMaster//Event Calendar 2.0//EN
METHOD:PUBLISH
X-PUBLISHED-TTL:P3D
REFRESH-INTERVAL:P3D
CALSCALE:GREGORIAN
BEGIN:VEVENT
DTSTART;VALUE=DATE:20190710
DTEND;VALUE=DATE:20190711
TRANSP:TRANSPARENT
X-MICROSOFT-CDO-ALLDAYEVENT:TRUE
SUMMARY:Open House at Northwest Suburban College
DESCRIPTION:Northwest Suburban College is hosting an Open House on Wednesday\, July 10\,  from 10:00 a.m. until 5:00 p.m.\n\n\nPlease stop by to learn about our Medical Assistant\, Dental Assistant\, and Pharmacy Technician programs. Our programs are accelerated and provide hands on experience with externships at medical and dental offices\, hospitals\, and commercial pharmacies. We offer generous institutional aid packages to students who qualify.\n\n\n\nVisit our Open House to tour the campus\, visit classrooms\, meet faculty and staff\, and enjoy refreshments. We look forward to seeing you on Wednesday\, July 10\, 2019!
X-ALT-DESC;FMTTYPE=text/html:<strong><span style="background-color:rgb(250\, 250\, 250)\; color:rgb(66\, 66\, 66)\; font-family:arial\,helvetica\,sans-serif\; font-size:12px">Northwest Suburban College is hosting an Open House on Wednesday\, July 10\,&nbsp\; from 10:00 a.m. until 5:00 p.m.</span></strong>\n<div><br />\n<span style="background-color:rgb(250\, 250\, 250)\; color:rgb(66\, 66\, 66)\; font-family:arial\,helvetica\,sans-serif\; font-size:12px">Please stop by to learn about our Medical Assistant\, Dental Assistant\, and Pharmacy Technician programs. Our programs are accelerated and provide hands on experience with externships at medical and dental offices\, hospitals\, and commercial pharmacies. We offer generous institutional aid packages to students who qualify.</span><br />\n<br />\n<span style="background-color:rgb(250\, 250\, 250)\; color:rgb(66\, 66\, 66)\; font-family:arial\,helvetica\,sans-serif\; font-size:12px">Visit our Open House&nbsp\;to tour the campus\, visit classrooms\, meet faculty and staff\, and enjoy refreshments. We look forward to seeing you on Wednesday\, July 10\, 2019!</span></div>\n
LOCATION:5999 S. New Wilke Road Building 500 Rolling Meadows\, IL 60008
UID:e.19.4252
SEQUENCE:3
DTSTAMP:20260424T190928Z
URL:https://business.rmchamber.org/events/details/open-house-at-northwest-suburban-college-07-10-2019-4252
END:VEVENT

END:VCALENDAR
