BEGIN:VCALENDAR
VERSION:2.0
PRODID:-//ChamberMaster//Event Calendar 2.0//EN
METHOD:PUBLISH
X-PUBLISHED-TTL:P3D
REFRESH-INTERVAL:P3D
CALSCALE:GREGORIAN
BEGIN:VEVENT
DTSTART;VALUE=DATE:20190123
DTEND;VALUE=DATE:20190124
TRANSP:TRANSPARENT
X-MICROSOFT-CDO-ALLDAYEVENT:TRUE
SUMMARY:Northwest Suburban College Open House
DESCRIPTION:Northwest Suburban College in Rolling Meadows is having an Open House on Wednesday\, January 23\, 2019\, between the hours of 10:00 a.m. and 5:00 p.m. All are welcome to visit our campus and learn about the medical and dental assistant and pharmacy technician certificate programs\, as well as a continuing education program for phlebotomy technicians offered at our school. You can visit our classes and labs\, meet instructors and staff\, and enjoy free refreshments. Calling ahead to 847-290-6425 is appreciated\, but not necessary. Please stop by on January 23\, to learn about these programs which lead to rewarding careers in the health sciences field.
X-ALT-DESC;FMTTYPE=text/html:<span style="font-family:times new roman\,serif"><span style="font-size:12.0pt">Northwest Suburban College in Rolling Meadows is having an Open House on Wednesday\, January 23\, 2019\, between the hours of 10:00 a.m. and 5:00 p.m. All are welcome to visit our campus and learn about the medical and dental assistant and pharmacy technician certificate programs\, as well as a continuing education program for phlebotomy technicians offered at our school. You can visit our classes and labs\, meet instructors and staff\, and enjoy free refreshments. Calling ahead to 847-290-6425 is appreciated\, but not necessary. Please stop by on January 23\, to learn about these programs which lead to rewarding careers in the health sciences field.</span></span>
LOCATION:Northwest Suburban College 5999 S. New Wilke Road Rolling Meadows\, IL 60008
UID:e.19.4235
SEQUENCE:3
DTSTAMP:20260425T033539Z
URL:https://business.rmchamber.org/events/details/northwest-suburban-college-open-house-4235
END:VEVENT

END:VCALENDAR
