BEGIN:VCALENDAR
VERSION:2.0
PRODID:-//ChamberMaster//Event Calendar 2.0//EN
METHOD:PUBLISH
X-PUBLISHED-TTL:P3D
REFRESH-INTERVAL:P3D
CALSCALE:GREGORIAN
BEGIN:VEVENT
DTSTART;VALUE=DATE:20170920
DTEND;VALUE=DATE:20170921
TRANSP:TRANSPARENT
X-MICROSOFT-CDO-ALLDAYEVENT:TRUE
SUMMARY:Multi-Chamber After Hours @ Northwest Community Healthcare
DESCRIPTION:More information coming soon!
X-ALT-DESC;FMTTYPE=text/html:More information coming soon!
LOCATION:
UID:e.19.3093
SEQUENCE:3
DTSTAMP:20260426T011148Z
URL:https://business.rmchamber.org/events/details/multi-chamber-after-hours-northwest-community-healthcare-3093
END:VEVENT

END:VCALENDAR
