BEGIN:VCALENDAR
VERSION:2.0
PRODID:-//ChamberMaster//Event Calendar 2.0//EN
METHOD:PUBLISH
X-PUBLISHED-TTL:P3D
REFRESH-INTERVAL:P3D
CALSCALE:GREGORIAN
BEGIN:VEVENT
DTSTART:20211014T170000Z
DTEND:20211014T183000Z
X-MICROSOFT-CDO-ALLDAYEVENT:FALSE
SUMMARY:Mega Connect-Virtual Multi-Chamber Networking
DESCRIPTION:Empower Your Business by Building Connections with 25+ Chambers of Commerce!\n\nMultiply your networking potential! Members looking for a productive on-line networking experience will enjoy the structured format of this program\, which gives each participant an opportunity to speak to a receptive audience about his/her company's products and services. In addition\, everyone will receive a contact list of participants via email before the event. Don't miss this unique opportunity to expand your reach and resources while maintaining your social distance! \n\n\n\nRegister by 5pm on October 11\n\n$15 per Member | $25 per Non-Chamber Member\n\n\n\nZoom event includes structured Networking with business people from these terrific Chambers of Commerce:\n\nArlington Heights\, Buffalo Grove/Lincolnshire\, Deerfield/Bannockburn/Riverwoods\, Des Plaines\, Edgebrook/Sauganash\, Edison Park\, Evanston\, Gladstone Park\, Glencoe\, Glenview\, Highland Park\, Lake Forest/Lake Bluff\, LGBTCC\, Lincolnwood\, Morton Grove\, Mount Prospect\, Niles\, Northbrook\, Palatine Area\, Park Ridge\, Portage Park\, Rolling Meadows\, Skokie\, Uptown\, Westridge\, Greater Wheeling\, Wilmette/Kenilworth and Winnetka/Northfield.
X-ALT-DESC;FMTTYPE=text/html:<strong>Empower Your Business by Building Connections with 25+ Chambers of Commerce!</strong><br />\nMultiply your networking potential! Members looking for a productive on-line networking experience will enjoy the structured format of this program\, which gives each participant an opportunity to speak to a receptive audience about his/her company&rsquo\;s products and services. In addition\, everyone will receive a contact list of participants via email before the event. Don&rsquo\;t miss this unique opportunity to expand your reach and resources while maintaining your social distance!&nbsp\;<br />\n<br />\nRegister by 5pm on October 11<br />\n$15 per Member | $25 per Non-Chamber Member<br />\n<br />\n<strong>Zoom event includes structured Networking with business people from these terrific Chambers of Commerce:</strong><br />\nArlington Heights\, Buffalo Grove/Lincolnshire\, Deerfield/Bannockburn/Riverwoods\, Des Plaines\, Edgebrook/Sauganash\, Edison Park\, Evanston\, Gladstone Park\, Glencoe\, Glenview\, Highland Park\, Lake Forest/Lake Bluff\, LGBTCC\, Lincolnwood\, Morton Grove\, Mount Prospect\, Niles\, Northbrook\, Palatine Area\, Park Ridge\, Portage Park\, Rolling Meadows\, Skokie\, Uptown\, Westridge\, Greater Wheeling\, Wilmette/Kenilworth and Winnetka/Northfield.
LOCATION:Virtual - Zoom
UID:e.19.4278
SEQUENCE:3
DTSTAMP:20260423T010542Z
URL:https://business.rmchamber.org/events/details/mega-connect-virtual-multi-chamber-networking-4278
END:VEVENT

END:VCALENDAR
