BEGIN:VCALENDAR
VERSION:2.0
PRODID:-//ChamberMaster//Event Calendar 2.0//EN
METHOD:PUBLISH
X-PUBLISHED-TTL:P3D
REFRESH-INTERVAL:P3D
CALSCALE:GREGORIAN
BEGIN:VEVENT
DTSTART:20190815T210000Z
DTEND:20190816T000000Z
X-MICROSOFT-CDO-ALLDAYEVENT:FALSE
SUMMARY:Makerspace and Entrepreneur Center Open House
DESCRIPTION:Learn How to Bring Your Biggest\, Boldest and Coolest Ideas to Life The friendly\, collaborative\, membership-based entrepreneurial space is focused on helping you bring your ideas to life and to market. Check out the professional-level makerspace tools and equipment including 3D printers\, 3D scanners\, laser cutters\, CNC mills\, electronics and more. Enjoy refreshments and prizes.
X-ALT-DESC;FMTTYPE=text/html:Learn How to Bring Your Biggest\, Boldest and Coolest Ideas to Life The friendly\, collaborative\, membership-based entrepreneurial space is focused on helping you bring your ideas to life and to market. Check out the professional-level makerspace tools and equipment including 3D printers\, 3D scanners\, laser cutters\, CNC mills\, electronics and more. Enjoy refreshments and prizes.
LOCATION:Building H\, Room 130 Harper College 1200 West Algonquin Rd. Palatine\, IL 60067
UID:e.19.4256
SEQUENCE:3
DTSTAMP:20260424T174701Z
URL:https://business.rmchamber.org/events/details/makerspace-and-entrepreneur-center-open-house-4256
END:VEVENT

END:VCALENDAR
