BEGIN:VCALENDAR
VERSION:2.0
PRODID:-//ChamberMaster//Event Calendar 2.0//EN
METHOD:PUBLISH
X-PUBLISHED-TTL:P3D
REFRESH-INTERVAL:P3D
CALSCALE:GREGORIAN
BEGIN:VEVENT
DTSTART:20220511T170000Z
DTEND:20220511T183000Z
X-MICROSOFT-CDO-ALLDAYEVENT:FALSE
SUMMARY:Doing Business in the New Normal
DESCRIPTION:This quarterly interactive and educational workshop will focus on how businesses are adjusting (pivoting!) to the changes effecting business\, supply chain/employees and demand. Listen to short talks from different industries -- automotive\, home improvement\, real estate\, retail and restaurant-- and how they are pushing through. Fee includes lunch & networking.
X-ALT-DESC;FMTTYPE=text/html:This quarterly interactive and educational workshop will focus on how businesses are adjusting (pivoting!) to the changes effecting business\, supply chain/employees and demand. Listen to short talks from different industries -- automotive\, home improvement\, real estate\, retail and restaurant-- and how they are pushing through. Fee includes lunch &amp\; networking.
LOCATION:Nellie's\, 180 N Smith St. Palatine
UID:e.19.4292
SEQUENCE:3
DTSTAMP:20260422T145658Z
URL:https://business.rmchamber.org/events/details/doing-business-in-the-new-normal-4292
END:VEVENT

END:VCALENDAR
