BEGIN:VCALENDAR
VERSION:2.0
PRODID:-//ChamberMaster//Event Calendar 2.0//EN
METHOD:PUBLISH
X-PUBLISHED-TTL:P3D
REFRESH-INTERVAL:P3D
CALSCALE:GREGORIAN
BEGIN:VEVENT
DTSTART:20220119T180000Z
DTEND:20220119T184500Z
X-MICROSOFT-CDO-ALLDAYEVENT:FALSE
SUMMARY:Chamber Member Site - increase awareness for your business!
DESCRIPTION:Learn how to use our newly upgraded Chamber Membership Site to increase awareness for your business! At this brief virtual member session\, you learn how to improve your public Chamber profile\, post events\, and market your business through our Chamber membership site!
X-ALT-DESC;FMTTYPE=text/html:Learn how to use our newly upgraded Chamber Membership Site to increase awareness for your business! At this brief virtual member session\, you learn how to improve your public Chamber profile\, post events\, and market your business through our Chamber membership site!
LOCATION:Virtual- zoom Join Zoom Meeting https://zoom.us/j/95816183129?pwd=aDR0V2VvYTdlcGtrZDliTm0zbTZ2QT09 Meeting ID: 958 1618 3129 Passcode: 423665 One tap mobile +13126266799\,\,95816183129#\,\,\,\,*423665# US (Chicago) +16465588656\,\,95816183129#\,\,\,\,*423665# US (New York) Dial by your location +1 312 626 6799 US (Chicago) +1 646 558 8656 US (New York) +1 301 715 8592 US (Washington DC) +1 346 248 7799 US (Houston) +1 669 900 9128 US (San Jose) +1 253 215 8782 US (Tacoma) Meeting ID: 958 1618 3129 Passcode: 423665
UID:e.19.4283
SEQUENCE:3
DTSTAMP:20260422T221415Z
URL:https://business.rmchamber.org/events/details/chamber-member-site-increase-awareness-for-your-business-4283
END:VEVENT

END:VCALENDAR
