BEGIN:VCALENDAR
VERSION:2.0
PRODID:-//ChamberMaster//Event Calendar 2.0//EN
METHOD:PUBLISH
X-PUBLISHED-TTL:P3D
REFRESH-INTERVAL:P3D
CALSCALE:GREGORIAN
BEGIN:VEVENT
DTSTART:20260220T180000Z
DTEND:20260228T180000Z
X-MICROSOFT-CDO-ALLDAYEVENT:FALSE
SUMMARY:Tickets for - Bite Into Local - Your Next Favorite Bite is Just Around the Corner
DESCRIPTION:The first 25 members who sign up will receive ONE free Flavor Pass - good for 15 area restaurants who will give you a free beverage/tasting/appetizer or other offering of their choice. See the link below for each location offering.\n\nhttps://arlingtonhcc.com/bite-into-local/
X-ALT-DESC;FMTTYPE=text/html:The first 25 members who sign up will receive ONE free Flavor Pass - good for 15 area restaurants who will give you a free beverage/tasting/appetizer or other offering of their choice. See the link below for each location offering.<br />\n<a href="https://arlingtonhcc.com/bite-into-local/">https://arlingtonhcc.com/bite-into-local/</a><br />\n<br />\n&nbsp\;
LOCATION:
UID:e.19.4694
SEQUENCE:3
DTSTAMP:20260423T002749Z
URL:http://business.rmchamber.org/events/details/tickets-for-bite-into-local-your-next-favorite-bite-is-just-around-the-corner-4694
END:VEVENT

END:VCALENDAR
