BEGIN:VCALENDAR
VERSION:2.0
PRODID:-//ChamberMaster//Event Calendar 2.0//EN
METHOD:PUBLISH
X-PUBLISHED-TTL:P3D
REFRESH-INTERVAL:P3D
CALSCALE:GREGORIAN
BEGIN:VEVENT
DTSTART:20250827T160000Z
DTEND:20250828T220000Z
X-MICROSOFT-CDO-ALLDAYEVENT:FALSE
SUMMARY:SLSF Women's Golf Outing - Birdies & Besties
DESCRIPTION:Spend the day golfing with your friends and join us for the Women's Golf Outing! This annual event for the Special Leisure Services Foundation (SLSF) benefits Northwest Special Recreation Association (NWSRA). NWSRA provides outstanding opportunities through recreation for children and adults with disabilities. At this year's golf outing\, golfers can expect an easy check-in\, caddy auction\, gimmick holes\, raffles out on the course\, lunch\, a cocktail hour and a guaranteed day filled with fun benefiting a great cause!
X-ALT-DESC;FMTTYPE=text/html:<span style="font-family:cormorantgaramond-light\,cormorantgaramond\,cormorant garamond\,serif\; font-size:18px"><span style="font-family:proxima-n-w01-reg\,proxima-n-w05-reg\,sans-serif">Spend the day golfing with your friends and join us for the Women&#39\;s Golf&nbsp\;</span></span><span style="font-family:proxima-n-w01-reg\,proxima-n-w05-reg\,sans-serif\; font-size:18px">Outing! This annual event for the Special Leisure Services Foundation (SLSF) benefits Northwest Special Recreation&nbsp\;</span><span style="font-family:proxima-n-w01-reg\,proxima-n-w05-reg\,sans-serif\; font-size:18px">Association (NWSRA). NWSRA provides outstanding&nbsp\;</span><span style="font-family:proxima-n-w01-reg\,proxima-n-w05-reg\,sans-serif\; font-size:18px">opportunities through recreation for children and adults with disabilities. At this year&#39\;s golf outing\, golfers can expect an easy check-in\, caddy auction\, gimmick holes\, raffles out on the course\,&nbsp\;</span><span style="font-family:proxima-n-w01-reg\,proxima-n-w05-reg\,sans-serif\; font-size:18px">lunch</span><span style="font-family:proxima-n-w01-reg\,proxima-n-w05-reg\,sans-serif\; font-size:18px">\, a cocktail hour and a guaranteed day filled with fun benefiting a great cause!</span>
LOCATION:Mt. Prospect Golf Course 600 S. See - Gwun Avenue Mt. Prospect\, IL 60056
UID:e.19.4674
SEQUENCE:3
DTSTAMP:20260425T142521Z
URL:http://business.rmchamber.org/events/details/slsf-women-s-golf-outing-birdies-besties-4674
END:VEVENT

END:VCALENDAR
