BEGIN:VCALENDAR
VERSION:2.0
PRODID:-//ChamberMaster//Event Calendar 2.0//EN
METHOD:PUBLISH
X-PUBLISHED-TTL:P3D
REFRESH-INTERVAL:P3D
CALSCALE:GREGORIAN
BEGIN:VEVENT
DTSTART:20260313T203000Z
DTEND:20260313T213000Z
X-MICROSOFT-CDO-ALLDAYEVENT:FALSE
SUMMARY:Nowling Law\, LLC - Ribbon Cutting Event
DESCRIPTION:Welcome our new Member at kickoff your weekend with a Ribbon Cutting at Nowling Law. Refreshment will be served
X-ALT-DESC;FMTTYPE=text/html:Welcome our new Member at kickoff your weekend with a Ribbon Cutting at Nowling Law. Refreshment will be served
LOCATION:5105 Tollview Drive Suite 107 Rolling Meadows 60008
UID:e.19.4696
SEQUENCE:3
DTSTAMP:20260422T112926Z
URL:http://business.rmchamber.org/events/details/nowling-law-llc-ribbon-cutting-event-4696
END:VEVENT

END:VCALENDAR
